BEGIN:VCALENDAR
VERSION:2.0
PRODID:-//Europapokalfreunde Vaihingen e. V. - ECPv6.15.20//NONSGML v1.0//EN
CALSCALE:GREGORIAN
METHOD:PUBLISH
X-WR-CALNAME:Europapokalfreunde Vaihingen e. V.
X-ORIGINAL-URL:https://europapokalfreunde.com
X-WR-CALDESC:Veranstaltungen für Europapokalfreunde Vaihingen e. V.
REFRESH-INTERVAL;VALUE=DURATION:PT1H
X-Robots-Tag:noindex
X-PUBLISHED-TTL:PT1H
BEGIN:VTIMEZONE
TZID:UTC
BEGIN:STANDARD
TZOFFSETFROM:+0000
TZOFFSETTO:+0000
TZNAME:UTC
DTSTART:20250101T000000
END:STANDARD
END:VTIMEZONE
BEGIN:VEVENT
DTSTART;TZID=UTC:20260509T090000
DTEND;TZID=UTC:20260509T140000
DTSTAMP:20260421T081654
CREATED:20260222T145107Z
LAST-MODIFIED:20260222T151343Z
UID:1914-1778317200-1778335200@europapokalfreunde.com
SUMMARY:Waldfest Innenausbau / Elektroverkabelung
DESCRIPTION:Gemeinsam mit den anderen Waldfestvereinen wollen wir an diesem Samstag den Innenausbau und die Elektroverkabelung für das Festzelt erledigen. Für das leibliche Wohl sorgt wie in jedem Jahr der Vereinsring Rohr
URL:https://europapokalfreunde.com/veranstaltung/waldfest-innenausbau-elektroverkabelung/
LOCATION:Waldfestplatz\, Festwaldstr. 1\, Stuttgart\, 70565
END:VEVENT
END:VCALENDAR