BEGIN:VCALENDAR
VERSION:2.0
PRODID:-//Europapokalfreunde Vaihingen e. V. - ECPv6.15.20//NONSGML v1.0//EN
CALSCALE:GREGORIAN
METHOD:PUBLISH
X-WR-CALNAME:Europapokalfreunde Vaihingen e. V.
X-ORIGINAL-URL:https://europapokalfreunde.com
X-WR-CALDESC:Veranstaltungen für Europapokalfreunde Vaihingen e. V.
REFRESH-INTERVAL;VALUE=DURATION:PT1H
X-Robots-Tag:noindex
X-PUBLISHED-TTL:PT1H
BEGIN:VTIMEZONE
TZID:UTC
BEGIN:STANDARD
TZOFFSETFROM:+0000
TZOFFSETTO:+0000
TZNAME:UTC
DTSTART:20250101T000000
END:STANDARD
END:VTIMEZONE
BEGIN:VEVENT
DTSTART;TZID=UTC:20261212T180000
DTEND;TZID=UTC:20261212T180000
DTSTAMP:20260421T161131
CREATED:20260222T153337Z
LAST-MODIFIED:20260222T153557Z
UID:1940-1797098400-1797098400@europapokalfreunde.com
SUMMARY:Weihnachtsfeier
DESCRIPTION:Auch in diesem Jahr findet wieder eine Weihnachtsfeier für alle Mitglieder. Aktuell sind wir noch an der Planung und werden die Location asap mitteilen.
URL:https://europapokalfreunde.com/veranstaltung/weihnachtsfeier/
END:VEVENT
END:VCALENDAR